BEGIN:VCALENDAR
VERSION:2.0
PRODID:-//Rotary Youth Exchange Czechia - ECPv6.15.17.1//NONSGML v1.0//EN
CALSCALE:GREGORIAN
METHOD:PUBLISH
X-ORIGINAL-URL:https://inbounds.rye2240.org
X-WR-CALDESC:Events for Rotary Youth Exchange Czechia
REFRESH-INTERVAL;VALUE=DURATION:PT1H
X-Robots-Tag:noindex
X-PUBLISHED-TTL:PT1H
BEGIN:VTIMEZONE
TZID:Europe/Prague
BEGIN:DAYLIGHT
TZOFFSETFROM:+0100
TZOFFSETTO:+0200
TZNAME:CEST
DTSTART:20250330T010000
END:DAYLIGHT
BEGIN:STANDARD
TZOFFSETFROM:+0200
TZOFFSETTO:+0100
TZNAME:CET
DTSTART:20251026T010000
END:STANDARD
BEGIN:DAYLIGHT
TZOFFSETFROM:+0100
TZOFFSETTO:+0200
TZNAME:CEST
DTSTART:20260329T010000
END:DAYLIGHT
BEGIN:STANDARD
TZOFFSETFROM:+0200
TZOFFSETTO:+0100
TZNAME:CET
DTSTART:20261025T010000
END:STANDARD
BEGIN:DAYLIGHT
TZOFFSETFROM:+0100
TZOFFSETTO:+0200
TZNAME:CEST
DTSTART:20270328T010000
END:DAYLIGHT
BEGIN:STANDARD
TZOFFSETFROM:+0200
TZOFFSETTO:+0100
TZNAME:CET
DTSTART:20271031T010000
END:STANDARD
END:VTIMEZONE
BEGIN:VEVENT
DTSTART;TZID=Europe/Prague:20260428T130000
DTEND;TZID=Europe/Prague:20260512T130000
DTSTAMP:20260426T043326
CREATED:20240810T173922Z
LAST-MODIFIED:20250926T124128Z
UID:54642-1777381200-1778590800@inbounds.rye2240.org
SUMMARY:EUROTOUR
DESCRIPTION:\n					\n						Voluntary event for inbounds in Czechia and Slovakia \n						\n					\n				\n			\n			\n				\n				\n				\n				\n				\n				\n				\n				\n				\n				\n					R\n					\n						The cost for every participant of the event is 2 250\,- EUR / 2 290\,- EUR   (2 250 + 40\,- EUR if paying by card)\n						\n					\n				\n			\n			\n				\n				\n				\n				\n			\n				\n				\n				\n				\n				\n				\n				\n				\n				\n				\n				\n					l\n					\n						Eurotour 2026 - detailed program and registration form \n						\n					\n				\n			\n			\n				\n				\n				\n				\n			\n				\n				\n				\n				\n				\n				\n				\n				\n				\n				\n				\n Eurotour 2019Eurotour 2019Read MoreRYE 2240May 19\, 2019 RYE EuroTour 2018Hey everyone! As some of you may know I just finished my EuroTour that was part of the Rotary Youth Exchange Program. I spent about two weeks with exchange students that live in Rotary District 2240\, Slovakia and the Czech Republic. This is how I decided to document these two amazing weeks... enjoy and thanks for watching 🙂Read MoreSedona Belle TRYGGMay 13\, 2018 Eurotour 2017 Eurotour byla skvělá\, byl to nezapomenutelný zážitek! Těmito slovy výměnní studenti shrnuli letošní Eurotour. Tři státy\, devět měst\, jeden vulkán a více než sto dvacet nachozených kilometrů. Takové jsou statistiky letošní cesty po Evropě\,…Read MoreRYE 2240May 13\, 2017 Eurotour 201668 studentů z celého světa\, 14 dní\, 6 měst\, 3 země. Spousta zábavy\, zážitků\, adrenalinových chvil\, dobrého jídla a mnohé páry prochozených bot. To byla Eurotour ve zkratce. Read MoreRYE 2240April 29\, 2016 Eurotour 2015Eurotour 2015Read MoreRYE 2240April 28\, 2015 Eurotour 2013Eurotour 2013Read MoreRYE 2240May 4\, 2013 \n			\n			\n				\n				\n				\n				\n			\n				\n				\n			\nRYE 2240
URL:https://inbounds.rye2240.org/event/eurotour/
CATEGORIES:Inbounds,Inbounds Czechia,Inbounds Slovakia
ATTACH;FMTTYPE=image/jpeg:https://inbounds.rye2240.org/wp-content/uploads/2018/08/345612730_578070724526901_4976368163052457325_n.jpg
ORGANIZER;CN="RYE CZ + ROTEX":MAILTO:org@rye2240.org
END:VEVENT
END:VCALENDAR