BEGIN:VCALENDAR
VERSION:2.0
PRODID:-//Rotary Youth Exchange Czechia - ECPv6.15.17.1//NONSGML v1.0//EN
CALSCALE:GREGORIAN
METHOD:PUBLISH
X-ORIGINAL-URL:https://inbounds.rye2240.org
X-WR-CALDESC:Events for Rotary Youth Exchange Czechia
REFRESH-INTERVAL;VALUE=DURATION:PT1H
X-Robots-Tag:noindex
X-PUBLISHED-TTL:PT1H
BEGIN:VTIMEZONE
TZID:Europe/Prague
BEGIN:DAYLIGHT
TZOFFSETFROM:+0100
TZOFFSETTO:+0200
TZNAME:CEST
DTSTART:20250330T010000
END:DAYLIGHT
BEGIN:STANDARD
TZOFFSETFROM:+0200
TZOFFSETTO:+0100
TZNAME:CET
DTSTART:20251026T010000
END:STANDARD
BEGIN:DAYLIGHT
TZOFFSETFROM:+0100
TZOFFSETTO:+0200
TZNAME:CEST
DTSTART:20260329T010000
END:DAYLIGHT
BEGIN:STANDARD
TZOFFSETFROM:+0200
TZOFFSETTO:+0100
TZNAME:CET
DTSTART:20261025T010000
END:STANDARD
BEGIN:DAYLIGHT
TZOFFSETFROM:+0100
TZOFFSETTO:+0200
TZNAME:CEST
DTSTART:20270328T010000
END:DAYLIGHT
BEGIN:STANDARD
TZOFFSETFROM:+0200
TZOFFSETTO:+0100
TZNAME:CET
DTSTART:20271031T010000
END:STANDARD
END:VTIMEZONE
BEGIN:VEVENT
DTSTART;TZID=Europe/Prague:20260130T160000
DTEND;TZID=Europe/Prague:20260201T110000
DTSTAMP:20260425T230034
CREATED:20221023T194507Z
LAST-MODIFIED:20250518T222441Z
UID:54680-1769788800-1769943600@inbounds.rye2240.org
SUMMARY:Winter Třebíč
DESCRIPTION:r\n					\n						Compulsory event for all inbounds in Czechia and Slovakia\n						\n					\n				\n			\n			\n				\n				\n				\n				\n				\n				\n				\n				\n				\n				\n					R\n					\n						Event paid by the Rotary\n						\n					\n				\n			\n			\n				\n				\n				\n				\n			\n				\n				\n				\n				\n				\n				\n				\n				\n				\n				\n				\n					i\n					\n						Preliminary program\n						Friday – arrival\, dinner\, language test. \nSaturday – tour of Třebíč\, lunch\, bowling\, dinner\, talent show. \nSunday – departure. \n					\n				\n			\n			\n				\n				\n				\n				\n			\n				\n				\n				\n				\n				\n				\n				\n				\n				\n				\n				 Czechia\,Long Term\,Winter MeetingCatching up – Part 2As a general rule\, I haven’t said no to any activities recently (except for time reasons\, of course)\, and this has paid off in several ways. I’ve experienced many wonderful moments that I won’t be forgetting any time soon and found a new hobby. Read MoreYannick Michael NEUMANNFebruary 7\, 2024(0) Czechia\,Long Term\,Winter MeetingSkiweek 2024: Building Friendships on the SlopesIn the heart of the beautiful\, snow-covered High Tatras\, at the Tatranská Lomnica ski resort\, an extraordinary meeting for exchange students took place from February 25th to March 2nd\, 2024. This skiing training organized by Rotary District 2240 was supevised by Rotarian Ondrej Kollár\, with the assistance of three former exchange students – Rotex members. It was attended by 34 exchange students from various corners of the world\, spending their exchange period in our district.Read MoreRYE 2240March 3\, 2024(0) Czechia\,Long Term\,Winter MeetingWinter Meeting in TřebíčOn January 26th\, 6 exchange students and I left the Ostrava-Svinov train station towards Třebíc\, a small city but full of history. We left in the early afternoon and went to Brno\, our connection. The trip to Brno was wonderful\, it was a peaceful 2 hours and very well spent.Read MoreGeovanna ZAGOFebruary 11\, 2024(0) Czechia\,Long Term\,Winter MeetingThe Třebič super meetingThe next day though\, was amazing. We went out\, visited a few places in the city\, then we went bowling\, which was super fun\, and hilarious\, specially because of the fact that I got 11 points in total\, probably being the worst out of all exchange students🤩. But we played and laughed a lot and it was super fun.Read MorePedro AlvaresApril 25\, 2023(0) Czechia\,Long Term\,Orientation Meeting for Inbounds\,Winter MeetingWinter Třebíč I really loved this day\, the atmosphere was always great! Whether it was at the bowling alley\, at the show\, or even between the streets of the city\, everyone was cheering\, singing\, dancing\, laughing It was really incredible! To conclude\, it was a great weekend\, and I can’t wait to see them all again in March during our ski week!Read MoreCélia FORSTFebruary 5\, 2023(0) Long Term\,Slovakia\,Winter MeetingSKI WEEK 2020It’s hard to believe that we are already about 7 months into our exchange year. But with the months progressing comes more rotary trips. And that includes Ski Week! Inbounds from across the district traveled to Ždiar\, High Tatras in Slovakia for a week of skiing and fun. Overall\, I have to say\, this was definitely the best Rotary event I have experienced so far. I had an amazing time spending time and catching up with my friends and skiing with them. Even though it was cut a bit short\, it was an unforgettable experience...Read MoreCarissa PlutMarch 16\, 2020(0) Czechia\,Long Term\,Winter MeetingWinter OrientationThanksgiving was my first major holiday away from home and I wanted to do something for it. I also saw it as an opportunity to give my host family a new experience. The best way I could do this was to make a Thanksgiving dinner. When I proposed the idea to my host parents they said that it was a great idea. The whole experience was amazing and crazy. We did something that very few people if any have ever done for Thanksgiving...Read MoreMaile SilvaFebruary 6\, 2020(0) Christmas Meeting\,Long Term\,Slovakia\,Winter MeetingPreviously On… Emelia’s LifeBack in November\, the Martin Rotary Club organized a Thanksgiving dinner for their families\, friends\, and nearby Rotarians and exchange students from other clubs. As per tradition\, I was made the "face" of this event as the American exchange student...Read MoreEmelia TombrellaFebruary 3\, 2020(0) Long Term\,Slovakia\,Winter MeetingWinter meeting in Poprad – TatrasThe next day\, we took a train up to Štrbské Pleso and hiked for about two hours before we reached our first spot. On the way\, we saw beautiful views of the mountains and the ski slopes off to the side. At our first pit stop\, we took lots of pictures and enjoyed the view of the frozen lake....Read MoreCarissa PlutJanuary 22\, 2020(0) Winter MeetingWinter Meeting in Poprad 2019Students from countries all over the world met at the train station in Poprad on January 18\, 2019 to start their winter Rotary weekend meeting.\n\nSaturday was devoted to a hike to a mountain lake Popradské pleso\, where the students could share their recent experiences and snowballs. At Popradské pleso all of them took out their flags as a photo with all the flags in always a must.\n\nThey were taken to Starý Smokovec by an electric train\, where they had lunch to recharge their batteries to be fully ready to climb up to Hrebienok. At the top of Hrebienok they admired ice sculptures and later in the day they enjoyed a sledge ride down the mountain.\n\nin the evening everybody enjoyed a talent show which included playing the violoncello\, saxophone or a light show. Later on everybody enjoyed dancing and singing\, however in the morning there was time to say good bye till they could meet again.Read MoreRYE 2240February 23\, 2019(0) Winter MeetingWinter Meeting in Třebíč 2019A traditional winter Rotary meeting organized by the District Youth Exchange committee and Rotex with the support of Rotary club Třebíč took place at the end of January. The meeting started on January 25 when 47 exchange students from all the parts of Czechia gathered to officially kick of the weekend.\n\nFirst\, their progress in Czech had to be tested. Everybody was quite nervous\, but in the end amazed at the improvement of all. In the meantime\, the newcomers from Australia and South Africa were welcomed and they learned all they needed to successfully start their exchange year.\n\nSaturday morning was devoted to sightseeing of Třebíč in the form of “city rallye”\, followed by a badminton tournament and the day was concluded by a talent show and picking and practicing song for the upcoming district conference.Read MoreRYE 2240February 2\, 2019(0) Winter MeetingWinter Meeting in Třebíč 2016 Ve dnech 22. – 24. ledna 2016 uspořádal distriktní výbor výměny mládeže  již tradiční setkání českých inboundů v Třebíči. Zúčastnilo se 35 studentů a náplní víkendu bylo především poznávání historických krás Třebíče a vzájemné sbližování všech. Páteční odpoledne bylo ve znamení příjezdů do hotelu\, ubytování a následných jazykových…Read MoreRYE 2240January 24\, 2016(0) Winter MeetingWinter Meeting in Třebíč 2017 Mrazivé počasí\, sport a zábava. To bylo hlavní náplní lednového meetingu pro české inboundy\, který se stejně jako každý rok konal v Třebíči. Akci uspořádal Distriktní výbor Výměny mládeže za pomoci Rotexu a Rotary klubu Třebíč ve dnech 20. - 22. ledna 2017 a zúčastnilo se jí 42…Read MoreRYE 2240January 22\, 2017(0) Winter MeetingWinter Meeting in Tatranská Lomnica 2017 Na konci januára usporiadal Dištriktný výbor Výmeny mládeže dlho očakávaný meeting pre slovenských inboundov vo veľkolepých Tatrách\, konkrétne v rozprávkovo zasneženej prírode\, ktorú ponúka Tatranská Lomnica. Po príchode do rezortu\, kde sme mali byť ubytovaní\, prišli prvé vrúcne objatia a vítanie študentov zo všetkých kútov sveta. Bol…Read MoreRYE 2240January 22\, 2017(0) Winter MeetingWinter Meeting in Tatranská Lomnica 2018 12.1.-.14.1.2018 usporiadal Dištriktný výbor Výmeny mládeže zimný meeting pre slovenských inboundov v Poprade. Po príchode do hotela sme sa ubytovali a išli sme na večeru. Večer bol venovaný testovaniu - test pozostával z písomnej časti\, počúvania s porozumením a ústnej časti. V sobotu nasledoval hlavný bod programu\,…Read MoreRYE 2240January 14\, 2018(0) Winter MeetingWinter Meeting in Třebíč 2018 Stejně\, jako každý rok jsme se vydali s výměnnými studenty do zasněžené Třebíče. Akce byla uspořádána Distriktním výborem Výměny mládeže za pomoci Rotexu a RC Třebíč ve dnech 19.-20.1. 2018\, zúčastnilo se jí 35 studentů. V pátek jsme na hotel všichni dorazili v pozdních odpoledních hodinách. Po…Read MoreRYE 2240January 21\, 2018(0)\n			\n			\n				\n				\n				\n				\n			\n				\n				\n			\nRYE 2240
URL:https://inbounds.rye2240.org/event/winter-trebic/
LOCATION:GRAND HOTEL Třebíč\, Karlovo nám. 5\, Třebíč\, Česká republika\, 67401\, Czech Republic
CATEGORIES:Inbounds,Inbounds Czechia
ATTACH;FMTTYPE=image/jpeg:https://inbounds.rye2240.org/wp-content/uploads/2022/10/Winter_Trebic.jpg
ORGANIZER;CN="RYE CZ + ROTEX":MAILTO:org@rye2240.org
END:VEVENT
END:VCALENDAR