BEGIN:VCALENDAR
VERSION:2.0
PRODID:-//Rotary Youth Exchange Czechia - ECPv6.15.17.1//NONSGML v1.0//EN
CALSCALE:GREGORIAN
METHOD:PUBLISH
X-ORIGINAL-URL:https://inbounds.rye2240.org
X-WR-CALDESC:Events for Rotary Youth Exchange Czechia
REFRESH-INTERVAL;VALUE=DURATION:PT1H
X-Robots-Tag:noindex
X-PUBLISHED-TTL:PT1H
BEGIN:VTIMEZONE
TZID:Europe/Prague
BEGIN:DAYLIGHT
TZOFFSETFROM:+0100
TZOFFSETTO:+0200
TZNAME:CEST
DTSTART:20250330T010000
END:DAYLIGHT
BEGIN:STANDARD
TZOFFSETFROM:+0200
TZOFFSETTO:+0100
TZNAME:CET
DTSTART:20251026T010000
END:STANDARD
BEGIN:DAYLIGHT
TZOFFSETFROM:+0100
TZOFFSETTO:+0200
TZNAME:CEST
DTSTART:20260329T010000
END:DAYLIGHT
BEGIN:STANDARD
TZOFFSETFROM:+0200
TZOFFSETTO:+0100
TZNAME:CET
DTSTART:20261025T010000
END:STANDARD
BEGIN:DAYLIGHT
TZOFFSETFROM:+0100
TZOFFSETTO:+0200
TZNAME:CEST
DTSTART:20270328T010000
END:DAYLIGHT
BEGIN:STANDARD
TZOFFSETFROM:+0200
TZOFFSETTO:+0100
TZNAME:CET
DTSTART:20271031T010000
END:STANDARD
END:VTIMEZONE
BEGIN:VEVENT
DTSTART;TZID=Europe/Prague:20260428T130000
DTEND;TZID=Europe/Prague:20260512T130000
DTSTAMP:20260425T164205
CREATED:20240810T173922Z
LAST-MODIFIED:20250926T124128Z
UID:54642-1777381200-1778590800@inbounds.rye2240.org
SUMMARY:EUROTOUR
DESCRIPTION:\n					\n						Voluntary event for inbounds in Czechia and Slovakia \n						\n					\n				\n			\n			\n				\n				\n				\n				\n				\n				\n				\n				\n				\n				\n					R\n					\n						The cost for every participant of the event is 2 250\,- EUR / 2 290\,- EUR   (2 250 + 40\,- EUR if paying by card)\n						\n					\n				\n			\n			\n				\n				\n				\n				\n			\n				\n				\n				\n				\n				\n				\n				\n				\n				\n				\n				\n					l\n					\n						Eurotour 2026 - detailed program and registration form \n						\n					\n				\n			\n			\n				\n				\n				\n				\n			\n				\n				\n				\n				\n				\n				\n				\n				\n				\n				\n				\n Eurotour 2019Eurotour 2019Read MoreRYE 2240May 19\, 2019 RYE EuroTour 2018Hey everyone! As some of you may know I just finished my EuroTour that was part of the Rotary Youth Exchange Program. I spent about two weeks with exchange students that live in Rotary District 2240\, Slovakia and the Czech Republic. This is how I decided to document these two amazing weeks... enjoy and thanks for watching 🙂Read MoreSedona Belle TRYGGMay 13\, 2018 Eurotour 2017 Eurotour byla skvělá\, byl to nezapomenutelný zážitek! Těmito slovy výměnní studenti shrnuli letošní Eurotour. Tři státy\, devět měst\, jeden vulkán a více než sto dvacet nachozených kilometrů. Takové jsou statistiky letošní cesty po Evropě\,…Read MoreRYE 2240May 13\, 2017 Eurotour 201668 studentů z celého světa\, 14 dní\, 6 měst\, 3 země. Spousta zábavy\, zážitků\, adrenalinových chvil\, dobrého jídla a mnohé páry prochozených bot. To byla Eurotour ve zkratce. Read MoreRYE 2240April 29\, 2016 Eurotour 2015Eurotour 2015Read MoreRYE 2240April 28\, 2015 Eurotour 2013Eurotour 2013Read MoreRYE 2240May 4\, 2013 \n			\n			\n				\n				\n				\n				\n			\n				\n				\n			\nRYE 2240
URL:https://inbounds.rye2240.org/event/eurotour/
CATEGORIES:Inbounds,Inbounds Czechia,Inbounds Slovakia
ATTACH;FMTTYPE=image/jpeg:https://inbounds.rye2240.org/wp-content/uploads/2018/08/345612730_578070724526901_4976368163052457325_n.jpg
ORGANIZER;CN="RYE CZ + ROTEX":MAILTO:org@rye2240.org
END:VEVENT
BEGIN:VEVENT
DTSTART;TZID=Europe/Prague:20260514T160000
DTEND;TZID=Europe/Prague:20260517T100000
DTSTAMP:20260425T164206
CREATED:20221214T110757Z
LAST-MODIFIED:20250813T215254Z
UID:54690-1778774400-1779012000@inbounds.rye2240.org
SUMMARY:District conference
DESCRIPTION:r\n					\n						Compulsory event for all inbounds \n						\n					\n				\n			\n			\n				\n				\n				\n				\n				\n				\n				\n				\n				\n				\n					R\n					\n						Event paid by the Rotary\n						\n					\n				\n			\n			\n				\n				\n				\n				\n			\n				\n				\n				\n				\n				\n				\n				\n				\n				\n				\n				\n					i\n					\n						Preliminary program\n						Thursday – arrival\, dinner\, practise of performances for the konference. \nFriday – practise of performances\, lunch\, tour of Adršpašsko-teplické skály. \n​Saturday – performances at the konference\, gala evening. \nSunday – departure. \n					\n				\n			\n			\n				\n				\n				\n				\n			\n				\n				\n				\n				\n				\n				\n				\n				\n				\n				\n				 Could Time Please Slow Down?I only have fifty days left on my exchange! Since Eurotour\, time has really been flying. Right when I returned from my Eurotour\, I’ve been extremely busy with school\, school activities\, and Rotary. The day afterRead MoreCassidy O´FLAHERTYMay 21\, 2018 District Conference Mariánské Lázně 2017 The District conference od District 2240 took place from April 6 to 9\, 2017. Just like any other year the place of the conference was given by the place of residence of the district governor. The Rotary district governor for 2016/17 was Štěpán de Wolf\, who is…Read MoreRYE 2240April 9\, 2017 District Conference Ostrava 2016 Dňa 6. -9. apríla 2017 sa konala dištriktná konferencia Rotary dištriktu 2240 Česká republika a Slovenská republika. Ako každý rok miesto konferencie bolo určené miestom pôsobenia Rotary guvernéra dištriktu 2240. Guvernér Rotary dištriktu pre rok 2016/2017 je Štěpán de Wolf a je členom Rotary klubu Cheb-Eger. Konferencia sa teda…Read MoreRYE 2240May 6\, 2016 District Conference Prague 2014District Conference Prague 2014\nby RYE 2240 | May 18\, 2014 | District ConferenceRead MoreRYE 2240May 18\, 2014 \n			\n			\n				\n				\n				\n				\n			\n				\n				\n			\nRYE 2240
URL:https://inbounds.rye2240.org/event/district-conference/
CATEGORIES:Inbounds,Inbounds Czechia,Inbounds Slovakia,Rotex
ATTACH;FMTTYPE=image/jpeg:https://inbounds.rye2240.org/wp-content/uploads/2018/08/District_Conference_2017-1.jpg
ORGANIZER;CN="RYE CZ + ROTEX":MAILTO:org@rye2240.org
END:VEVENT
BEGIN:VEVENT
DTSTART;TZID=Europe/Prague:20260528T170000
DTEND;TZID=Europe/Prague:20260531T100000
DTSTAMP:20260425T164206
CREATED:20230102T113406Z
LAST-MODIFIED:20250813T214352Z
UID:54695-1779987600-1780221600@inbounds.rye2240.org
SUMMARY:Orientation Meeting IV. for outbounds and inbounds
DESCRIPTION:r\n					\n						Compulsory event for all outbounds and inbounds\n						\n					\n				\n			\n			\n				\n				\n				\n				\n				\n				\n				\n				\n				\n				\n					R\n					\n						Event paid by the Rotary\n						\n					\n				\n			\n			\n				\n				\n				\n				\n			\n				\n				\n				\n				\n				\n				\n				\n				\n				\n				\n				\n					i\n					\n						Preliminary program\n						Thursday – arrival of inbounds\, dinner\, preparations of teambuilding activities. \nFriday – inbounds – trip to Punkva caves and Pernštejn castle\, arrival of outbounds 4:00 pm\, dinner\, presentations of outbounds. \nSaturday – teambuilding in mixed teams inbounds + outbounds all day long. \nSunday – departure. \n					\n				\n			\n			\n				\n				\n				\n				\n			\n				\n				\n				\n				\n				\n				\n				\n				\n				\n				\n				 Orientation Meeting for Outbounds and InboundsOrientation Meeting for Outbounds and Inbounds Slovakia 2019[et_pb_text _builder_version="3.27.4" text_text_shadow_horizontal_length="text_text_shadow_style\,%91object Object%93" text_text_shadow_horizontal_length_tablet="0px" text_text_shadow_vertical_length="text_text_shadow_style\,%91object Object%93" text_text_shadow_vertical_length_tablet="0px" text_text_shadow_blur_strength="text_text_shadow_style\,%91object Object%93" text_text_shadow_blur_strength_tablet="1px" link_text_shadow_horizontal_length="link_text_shadow_style\,%91object Object%93" link_text_shadow_horizontal_length_tablet="0px" link_text_shadow_vertical_length="link_text_shadow_style\,%91object Object%93" link_text_shadow_vertical_length_tablet="0px" link_text_shadow_blur_strength="link_text_shadow_style\,%91object Object%93" link_text_shadow_blur_strength_tablet="1px" ul_text_shadow_horizontal_length="ul_text_shadow_style\,%91object Object%93" ul_text_shadow_horizontal_length_tablet="0px" ul_text_shadow_vertical_length="ul_text_shadow_style\,%91object Object%93" ul_text_shadow_vertical_length_tablet="0px" ul_text_shadow_blur_strength="ul_text_shadow_style\,%91object Object%93" ul_text_shadow_blur_strength_tablet="1px" ol_text_shadow_horizontal_length="ol_text_shadow_style\,%91object Object%93" ol_text_shadow_horizontal_length_tablet="0px" ol_text_shadow_vertical_length="ol_text_shadow_style\,%91object Object%93" ol_text_shadow_vertical_length_tablet="0px" ol_text_shadow_blur_strength="ol_text_shadow_style\,%91object Object%93" ol_text_shadow_blur_strength_tablet="1px" quote_text_shadow_horizontal_length="quote_text_shadow_style\,%91object Object%93" quote_text_shadow_horizontal_length_tablet="0px" quote_text_shadow_vertical_length="quote_text_shadow_style\,%91object Object%93" quote_text_shadow_vertical_length_tablet="0px"…Read MoreRYE 2240June 11\, 2019(0) Orientation Meeting for Outbounds and InboundsOrientation Meeting for Outbounds and Inbounds Czechia 2019[et_pb_text _builder_version="3.27.4" text_text_shadow_horizontal_length="text_text_shadow_style\,%91object Object%93" text_text_shadow_horizontal_length_tablet="0px" text_text_shadow_vertical_length="text_text_shadow_style\,%91object Object%93" text_text_shadow_vertical_length_tablet="0px" text_text_shadow_blur_strength="text_text_shadow_style\,%91object Object%93" text_text_shadow_blur_strength_tablet="1px" link_text_shadow_horizontal_length="link_text_shadow_style\,%91object Object%93" link_text_shadow_horizontal_length_tablet="0px" link_text_shadow_vertical_length="link_text_shadow_style\,%91object Object%93" link_text_shadow_vertical_length_tablet="0px" link_text_shadow_blur_strength="link_text_shadow_style\,%91object Object%93" link_text_shadow_blur_strength_tablet="1px" ul_text_shadow_horizontal_length="ul_text_shadow_style\,%91object Object%93" ul_text_shadow_horizontal_length_tablet="0px" ul_text_shadow_vertical_length="ul_text_shadow_style\,%91object Object%93" ul_text_shadow_vertical_length_tablet="0px" ul_text_shadow_blur_strength="ul_text_shadow_style\,%91object Object%93" ul_text_shadow_blur_strength_tablet="1px" ol_text_shadow_horizontal_length="ol_text_shadow_style\,%91object Object%93" ol_text_shadow_horizontal_length_tablet="0px" ol_text_shadow_vertical_length="ol_text_shadow_style\,%91object Object%93" ol_text_shadow_vertical_length_tablet="0px" ol_text_shadow_blur_strength="ol_text_shadow_style\,%91object Object%93" ol_text_shadow_blur_strength_tablet="1px" quote_text_shadow_horizontal_length="quote_text_shadow_style\,%91object Object%93" quote_text_shadow_horizontal_length_tablet="0px" quote_text_shadow_vertical_length="quote_text_shadow_style\,%91object Object%93" quote_text_shadow_vertical_length_tablet="0px"…Read MoreRYE 2240June 10\, 2019(0) Orientation Meeting for Outbounds and InboundsOrientation Meeting for Outbounds and Inbounds Czechia 2017 Mezinárodní teambuilding\, objevování krás České přírody a spousta zábavy. To vše je možné\, když se sejde 48 outboundů a 49 inboundů na jednom místě. Ve dnech 8. - 11. června 2017 se v Křižanově u Velkého Meziříčí uskutečnil Orientation meeting III\, který uspořádal Distriktní výbor Výměny mládeže a…Read MoreRYE 2240June 11\, 2017(0) Orientation Meeting for Outbounds and InboundsOrientation Meeting for Outbounds and Inbounds Slovakia 2017 Orientation meeting III Slovenský Raj 2017 V dňoch 1.-4. 6. 2017 sa v nádhernom prostredí Slovenského Raja konal Orientantion meeting III určený pre slovenských inboundov a outboundov. Teplé slnečné počasie doplnil smiech a radosť našich študentov\, ktorý sa ozýval zo všetkých svetových strán. V štvrtok 1.6. 2017…Read MoreRYE 2240June 6\, 2017(0) Orientation Meeting for Outbounds and InboundsOrientation Meeting for Outbounds and Inbounds Slovakia 2016 “Tu zastav\, vidím cudzie vlajky!” – kričala som v aute a za jazdy otvárala dvere. Rýchlo som vystúpila z auta\, vzala si kufor a so Sárou som sme sa pohli smerom k hotelu. Jasné\, že nie k správnemu. Nič nové. Ten náš bol asi ešte tak 200…Read MoreRYE 2240June 5\, 2016(0) Orientation Meeting for Outbounds and InboundsOrientation Meeting for Outbounds and Inbounds Czechia 2016 Také v letošním roce se zahraniční výměnní studenti z české části našeho distriktu setkali na třídenním setkání s českými studenty\, kteří budou zanedlouho odlétat do zahraničí na roční výměnný pobyt. Meeting se konal ve dnech 26. - 29. května 2016 v Křižanově na Vysočině pod záštitou distriktního…Read MoreRYE 2240May 29\, 2016(0) Orientation Meeting for Outbounds and InboundsOrientation Meeting for Outbounds and Inbounds Czechia 2013 Výměnný pobyt na jeden rok! Jedna jednoduchá věta a co vše za ní je! Vždy\, když se někdo rozhodne a opravdu odjíždí\, říkám – moc ti to přeji a zároveň i tak trochu závidím. Když mě bylo sedmnáct let\, mohla jsem tak na nákup do NDR nebo do…Read MoreRYE 2240June 12\, 2013(0) \n			\n			\n				\n				\n				\n				\n			\n				\n				\n			\nRYE 2240
URL:https://inbounds.rye2240.org/event/orientation-meeting-iv-for-outbounds-and-inbounds/
LOCATION:Rekreační středisko DRAK Křižanov\, Křižanov u Velkého Meziříčí\, 594 51\, Czech Republic
CATEGORIES:Inbounds,Inbounds Czechia,Inbounds Slovakia,Outbounds Czechia,Outbounds Slovakia,Rotex
ATTACH;FMTTYPE=image/jpeg:https://inbounds.rye2240.org/wp-content/uploads/2018/08/Orientation-Meeting-III.-Česko.jpg
ORGANIZER;CN="RYE CZ + ROTEX":MAILTO:org@rye2240.org
END:VEVENT
BEGIN:VEVENT
DTSTART;TZID=Europe/Prague:20260618T170000
DTEND;TZID=Europe/Prague:20260621T100000
DTSTAMP:20260425T164206
CREATED:20250812T124517Z
LAST-MODIFIED:20250813T215206Z
UID:54704-1781802000-1782036000@inbounds.rye2240.org
SUMMARY:Farewell weekend
DESCRIPTION:\n					\n						Mandatory event for all inbounds\n						\n					\n				\n			\n			\n				\n				\n				\n				\n				\n				\n				\n				\n				\n				\n					R\n					\n						Event is paid by the Rotary\n						\n					\n				\n			\n			\n				\n				\n				\n				\n			\n				\n				\n				\n				\n				\n				\n				\n				\n				\n				\n				\n					l\n					\n						FAREWELL WEEKEND 2025 - PROGRAM AND REGISTRATION FORM\n						\n					\n				\n			\n			\n				\n				\n				\n				\n			\n				\n				\n				\n				\n				\n				\n				\n				\n				\n				\n				 Czechia\,Farewell Weekend\,Long TermFAREWELL 2025: Goodbye\, but not foreverLeaving is never easy.…Read MoreRYE 2240June 18\, 2025(0) Farewell WeekendFarewell Weekend 2019V stredu 19.6.2019 sa vo Valticiach začala schádzať skupina výmenných študentov. Niektorý so smútkom keďže to bol posledný skupinový výlet výmenných študentov pred ich návratom domov\, väčšina však s nadšením že sa môžu ešte raz stretnúť po hromade a najmä s obavami ako po celom roku jedenia halušiek\, horaliek a pitia kofoly zvládnu dni plné športových aktivít. Večer sa niesol v pohodovom znení – zahrali sme si hru “Capture the flag”\, tí aktívnejší si potom dali basketbalový zápas\, ostatní si pospevovali pri hre gitár.Read MoreRYE 2240June 29\, 2019(0) Farewell WeekendFarewell Weekend 2016 Dištriktný výbor Výmeny mládeže v spolupráci s Rotexom a Rotary klubom Valtice - Břeclav usporiadal v dňoch 15. - 19. júna 2016 záverečnú akciu pre zahraničných študentov\, ktorí v našom dištrikte strávili celý školský rok 2015-16. Najsmutnejší a zároveň najakčnejší výlet pre našich výmenných študentov sa uskutočnil…Read MoreRYE 2240June 19\, 2016(0) Farewell WeekendFarewell Weekend 2013  Related Posts    Read MoreRYE 2240June 23\, 2013(0) \n			\n			\n				\n				\n				\n				\n			\n				\n				\n			\nRYE 2240
URL:https://inbounds.rye2240.org/event/farewell-weekend/
LOCATION:Koleje Zámeček v Lednici na Moravě\, Valtická 340\, Lednice\, Czech Republic
CATEGORIES:Farewell Weekend,Inbounds,Inbounds Czechia,Inbounds Slovakia,Rotex
ATTACH;FMTTYPE=image/jpeg:https://inbounds.rye2240.org/wp-content/uploads/2018/08/Farewell_Weekend.jpg
ORGANIZER;CN="RYE CZ + ROTEX":MAILTO:org@rye2240.org
END:VEVENT
BEGIN:VEVENT
DTSTART;TZID=Europe/Prague:20260918T170000
DTEND;TZID=Europe/Prague:20260920T113000
DTSTAMP:20260425T164206
CREATED:20260304T210754Z
LAST-MODIFIED:20260321T104444Z
UID:54629-1789750800-1789903800@inbounds.rye2240.org
SUMMARY:Orientation Meeting I. for Inbounds
DESCRIPTION:r\n					\n						Compulsory event for all inbounds in Czechia and Slovakia\n						\n					\n				\n			\n			\n				\n				\n				\n				\n				\n				\n				\n				\n				\n				\n					R\n					\n						Event paid by the Rotary\n						\n					\n				\n			\n			\n				\n				\n				\n				\n			\n				\n				\n				\n				\n				\n				\n				\n				\n				\n				\n				\n					i\n					\n						Preliminary program\n						Friday – arrival\, activities for inbounds to get to know each other. \nSaturday – language tests\, presentations to help you survive your exchange\, individual and group activities. \nSunday – instructions on how to work with our information systems and web pages\, rules\, departure.\n					\n				\n			\n			\n				\n				\n				\n				\n			\n				\n				\n				\n				\n				\n				\n				\n				\n				\n				\n				 Czechia\,Long Term\,Orientation Meeting for InboundsOrientation Meeting I. for inboundsI think it was one of the most anticipated weekends for me\, and for all the other inbounds from district 2240. It was finally time to meet Brazilians (which meant that after almost 40 days here\, I would finally be able to speak Portuguese)\, and all the other exchange students\, meet people from all over the world and I will spend a year “living” with them.Read MoreRafaela Musa COSTA BRAVO OLIVEIRAOctober 23\, 2023(0) Czechia\,Long Term\,Orientation Meeting for Inbounds\,Winter MeetingWinter Třebíč I really loved this day\, the atmosphere was always great! Whether it was at the bowling alley\, at the show\, or even between the streets of the city\, everyone was cheering\, singing\, dancing\, laughing It was really incredible! To conclude\, it was a great weekend\, and I can’t wait to see them all again in March during our ski week!Read MoreCélia FORSTFebruary 5\, 2023(0) Orientation Meeting for InboundsOrientation Meeting for Inbounds 2018Tak jako každý rok v létě\, tak také letos k nám do distriktu přicestovalo více než 80 zahraničních studentů\, kteří v Česku a na Slovensku stráví svůj výměnný rok. Během předposledního zářijového víkendu jsme v krásném moravském městě Kroměříž přivítali tzv. inboundy v našem distriktu. Úkolem členů Distriktního výboru výměny mládeže a členů Rotexu (bývalých výměnných studentů) bylo během tohoto meetingu seznámit studenty s naším distriktem\, jeho činovníky a s pravidly\, která musí studenti dodržovat pro úspěšné absolvování ročního výměnného pobytu.  Read MoreRYE 2240October 10\, 2018(0) Orientation Meeting for InboundsOrientation Meeting for Inbounds 2017 The first meeting for our new inbounds Every new Rotary year marks the arrival of foreign Exchange students to our district. This year was no exception\, and the number of students that are going to spend their school year in Czechia…Read MoreRYE 2240September 24\, 2017(0) Orientation Meeting for InboundsOrientation Meeting for Inbounds 2016 Se začátkem nového rotariánského roku přijíždí do našeho distriktu také zahraniční studenti\, kteří v Česku a na Slovensku stráví celý školní rok. V letošním roce hostíme doposud největší počet výměnných studentů\, kterých je téměř 100. Ve dnech 16.-18.9.2016 jsme nově příchozí výměnné studenty neboli inboundy přivítali na…Read MoreRYE 2240September 18\, 2016(0) Orientation Meeting for InboundsOrientation Meeting for Inbounds 2012 "Všichni jsou tu super!" Druhý zářijový víkend hostilo malebné slovenské městečko Strečno již tradičně první orientation meeting inboundů. Letos máme v našem distriktu opět studenty z USA\, Kanady\, Mexika\, Brazílie\, Kolumbie\, Taiwanu a Japonska. Někteří zde již strávili měsíc\, někteří pouze pár dnů\,…Read MoreRYE 2240September 23\, 2012(0) \n			\n			\n				\n				\n				\n				\n			\n				\n				\n			\nRYE 2240
URL:https://inbounds.rye2240.org/event/orientation-meeting-i-for-inbounds/
LOCATION:Střední škola hotelová a služeb Kroměříž – Domov mládeže\, Pavlákova 3942/1\, Kroměříž\, 767 01\, Czech Republic
ATTACH;FMTTYPE=image/jpeg:https://inbounds.rye2240.org/wp-content/uploads/2018/08/Orientation-Meeting-I.jpg
ORGANIZER;CN="RYE CZ + ROTEX":MAILTO:org@rye2240.org
END:VEVENT
END:VCALENDAR