BEGIN:VCALENDAR
VERSION:2.0
PRODID:-//Rotary Youth Exchange Czechia - ECPv6.15.17.1//NONSGML v1.0//EN
CALSCALE:GREGORIAN
METHOD:PUBLISH
X-WR-CALNAME:Rotary Youth Exchange Czechia
X-ORIGINAL-URL:https://inbounds.rye2240.org
X-WR-CALDESC:Events for Rotary Youth Exchange Czechia
REFRESH-INTERVAL;VALUE=DURATION:PT1H
X-Robots-Tag:noindex
X-PUBLISHED-TTL:PT1H
BEGIN:VTIMEZONE
TZID:Europe/Prague
BEGIN:DAYLIGHT
TZOFFSETFROM:+0100
TZOFFSETTO:+0200
TZNAME:CEST
DTSTART:20180325T010000
END:DAYLIGHT
BEGIN:STANDARD
TZOFFSETFROM:+0200
TZOFFSETTO:+0100
TZNAME:CET
DTSTART:20181028T010000
END:STANDARD
BEGIN:DAYLIGHT
TZOFFSETFROM:+0100
TZOFFSETTO:+0200
TZNAME:CEST
DTSTART:20190331T010000
END:DAYLIGHT
BEGIN:STANDARD
TZOFFSETFROM:+0200
TZOFFSETTO:+0100
TZNAME:CET
DTSTART:20191027T010000
END:STANDARD
BEGIN:DAYLIGHT
TZOFFSETFROM:+0100
TZOFFSETTO:+0200
TZNAME:CEST
DTSTART:20200329T010000
END:DAYLIGHT
BEGIN:STANDARD
TZOFFSETFROM:+0200
TZOFFSETTO:+0100
TZNAME:CET
DTSTART:20201025T010000
END:STANDARD
END:VTIMEZONE
BEGIN:VEVENT
DTSTART;TZID=Europe/Prague:20191206T170000
DTEND;TZID=Europe/Prague:20191208T110000
DTSTAMP:20260426T010126
CREATED:20180813T144122Z
LAST-MODIFIED:20190629T153004Z
UID:54665-1575651600-1575802800@inbounds.rye2240.org
SUMMARY:Christmas Bratislava and Wienna
DESCRIPTION:r\n					\n						Compulsory event for all inbounds in Czechia and Slovakia\n						\n					\n				\n			\n			\n				\n				\n				\n				\n				\n				\n				\n				\n				\n				\n					R\n					\n						Event paid by the Rotary\n						\n					\n				\n			\n			\n				\n				\n				\n				\n			\n				\n				\n				\n				\n				\n				\n				\n				\n				\n				\n				\n					i\n					\n						Preliminary program\n						Friday – arrival\, dinner\, Bratislava tour. \nSaturday – trip to Wienna\, Christmas evening. \nSunday – language test\, departure.\n					\n				\n			\n			\n				\n				\n				\n				\n			\n				\n				\n				\n				\n				\n				\n				\n				\n				\n				\n				 Previously On… Emelia’s LifeRead MoreEmelia TombrellaFebruary 3\, 2020 Prague with exchange students!Read Moregabriella chiaravalleJanuary 9\, 2019 Christmas Rotary weekendRead MoreAurelia DungeyJanuary 2\, 2019 Christmas Meeting in Bratislava 2018Read MoreRYE 2240December 22\, 2018 Christmas Meeting in Prague 2018Read MoreRYE 2240December 20\, 2018 Christmas Meeting in Bratislava 2017Read MoreRYE 2240December 10\, 2017 Christmas Meeting in Prague 2017Read MoreRYE 2240December 10\, 2017 Christmas Meeting in Prague 2016Read MoreRYE 2240December 11\, 2016 Christmas Meeting in Prague 2014Read MoreRYE 2240December 7\, 2014\n			\n			\n				\n				\n				\n				\n			\n				\n				\n			\nRYE 2240
URL:https://inbounds.rye2240.org/event/christmas-bratislava-and-wienna/
LOCATION:Stredná odborná škola vinársko-ovocinárska Modra\, Kostolná 162/3\, Modra\, 900 01\, Slovakia (Slovak Republic)
CATEGORIES:Inbounds,Inbounds Slovakia
ATTACH;FMTTYPE=image/jpeg:https://inbounds.rye2240.org/wp-content/uploads/2018/08/Christmas_Bratislava.jpg
ORGANIZER;CN="RYE CZ + ROTEX":MAILTO:org@rye2240.org
END:VEVENT
END:VCALENDAR